BEGIN:VCALENDAR
VERSION:2.0
PRODID:-//Integrated Care DC - ECPv6.14.2//NONSGML v1.0//EN
CALSCALE:GREGORIAN
METHOD:PUBLISH
X-ORIGINAL-URL:https://www.integratedcare.dc.gov
X-WR-CALDESC:Events for Integrated Care DC
REFRESH-INTERVAL;VALUE=DURATION:PT1H
X-Robots-Tag:noindex
X-PUBLISHED-TTL:PT1H
BEGIN:VTIMEZONE
TZID:America/New_York
BEGIN:DAYLIGHT
TZOFFSETFROM:-0500
TZOFFSETTO:-0400
TZNAME:EDT
DTSTART:20210314T070000
END:DAYLIGHT
BEGIN:STANDARD
TZOFFSETFROM:-0400
TZOFFSETTO:-0500
TZNAME:EST
DTSTART:20211107T060000
END:STANDARD
END:VTIMEZONE
BEGIN:VEVENT
DTSTART;TZID=America/New_York:20210527T120000
DTEND;TZID=America/New_York:20210527T130000
DTSTAMP:20260423T091710
CREATED:20210312T205035Z
LAST-MODIFIED:20230831T191747Z
UID:10000088-1622116800-1622120400@www.integratedcare.dc.gov
SUMMARY:Webinar #7 TA Office Hour - Harm Reduction Basics and Lessons from the Field
DESCRIPTION:The TA Office Hour provides a venue for additional discussion and small group Q and A specific to topics presented in Webinar #7. \nView Resource \n The previously recorded webinar and associated materials are available in the resource library.
URL:https://www.integratedcare.dc.gov/event/webinar-7-ta-office-hour-addressing-comorbidities-and-enhancing-access-to-care-through-low-barrier-harm-reduction-strategies/
CATEGORIES:Office Hour
END:VEVENT
END:VCALENDAR