BEGIN:VCALENDAR
VERSION:2.0
PRODID:-//Integrated Care DC - ECPv6.14.2//NONSGML v1.0//EN
CALSCALE:GREGORIAN
METHOD:PUBLISH
X-ORIGINAL-URL:https://www.integratedcare.dc.gov
X-WR-CALDESC:Events for Integrated Care DC
REFRESH-INTERVAL;VALUE=DURATION:PT1H
X-Robots-Tag:noindex
X-PUBLISHED-TTL:PT1H
BEGIN:VTIMEZONE
TZID:America/New_York
BEGIN:DAYLIGHT
TZOFFSETFROM:-0500
TZOFFSETTO:-0400
TZNAME:EDT
DTSTART:20210314T070000
END:DAYLIGHT
BEGIN:STANDARD
TZOFFSETFROM:-0400
TZOFFSETTO:-0500
TZNAME:EST
DTSTART:20211107T060000
END:STANDARD
END:VTIMEZONE
BEGIN:VEVENT
DTSTART;TZID=America/New_York:20211019T120000
DTEND;TZID=America/New_York:20211019T130000
DTSTAMP:20260422T042027
CREATED:20210924T040527Z
LAST-MODIFIED:20230829T152824Z
UID:10000096-1634644800-1634648400@www.integratedcare.dc.gov
SUMMARY:Adapting Evidence Based Practices for Integrated Care
DESCRIPTION:Description: This webinar workshop series will focus on key elements of evidence based practices/treatments to assist providers with achieving successful implementation and outcomes. HMA presenters will discuss key components of EBPs including but not limited to training\, indicated populations\, fidelity assessments\, tools and other relevant topics. The webinar includes an interview with psychologist Jennifer Frey who will discuss the ways in which she uses and adapts the EBP of Motivational Interviewing in her work as a behavioral health consultant at Unity. Participants will have opportunities to engage and ask specific questions. Following the webinar\, there will be a series of three EBP workshops guided by participants’ feedback that may include cognitive behavior therapy\, behavioral interventions for stress management trauma informed care\, problem solving therapy. \nSpeakers: Shannon Robinson\, MD (HMA)\, Marsha Johnson\, MSW\, LCSW (HMA)\, Jennifer Frey\, PhD (Unity) \nView Resource \n The previously recorded webinar and associated materials are available in the resource library.
URL:https://www.integratedcare.dc.gov/event/adapting-evidence-based-practices-for-integrated-care/
CATEGORIES:Webinar Event
END:VEVENT
END:VCALENDAR