BEGIN:VCALENDAR
VERSION:2.0
PRODID:-//Integrated Care DC - ECPv6.14.2//NONSGML v1.0//EN
CALSCALE:GREGORIAN
METHOD:PUBLISH
X-ORIGINAL-URL:https://www.integratedcare.dc.gov
X-WR-CALDESC:Events for Integrated Care DC
REFRESH-INTERVAL;VALUE=DURATION:PT1H
X-Robots-Tag:noindex
X-PUBLISHED-TTL:PT1H
BEGIN:VTIMEZONE
TZID:America/New_York
BEGIN:DAYLIGHT
TZOFFSETFROM:-0500
TZOFFSETTO:-0400
TZNAME:EDT
DTSTART:20210314T070000
END:DAYLIGHT
BEGIN:STANDARD
TZOFFSETFROM:-0400
TZOFFSETTO:-0500
TZNAME:EST
DTSTART:20211107T060000
END:STANDARD
END:VTIMEZONE
BEGIN:VEVENT
DTSTART;TZID=America/New_York:20211021T150000
DTEND;TZID=America/New_York:20211021T153000
DTSTAMP:20260422T010941
CREATED:20210924T040652Z
LAST-MODIFIED:20230829T152737Z
UID:10000097-1634828400-1634830200@www.integratedcare.dc.gov
SUMMARY:Evidence Based Practices Workshop 1: Cognitive Behavioral Therapy
DESCRIPTION:Description: CBT has been widely studied and has been shown to be an effective approach to physical and mental health. HMA presenters will discuss key components of Cognitive Behavior Therapy (CBT) including but not limited to indicated populations\, key components and tools specific for CBT. \nSpeakers: Shannon Robinson\, MD (HMA)\, Caitlin Thomas-Henkel (HMA) \nView Resource \n The previously recorded webinar and associated materials are available in the resource library.
URL:https://www.integratedcare.dc.gov/event/evidence-based-practices-workshop-1-cognitive-behavioral-therapy/
CATEGORIES:Webinar Event
END:VEVENT
END:VCALENDAR