BEGIN:VCALENDAR
VERSION:2.0
PRODID:-//Integrated Care DC - ECPv6.14.2//NONSGML v1.0//EN
CALSCALE:GREGORIAN
METHOD:PUBLISH
X-ORIGINAL-URL:https://www.integratedcare.dc.gov
X-WR-CALDESC:Events for Integrated Care DC
REFRESH-INTERVAL;VALUE=DURATION:PT1H
X-Robots-Tag:noindex
X-PUBLISHED-TTL:PT1H
BEGIN:VTIMEZONE
TZID:America/New_York
BEGIN:DAYLIGHT
TZOFFSETFROM:-0500
TZOFFSETTO:-0400
TZNAME:EDT
DTSTART:20220313T070000
END:DAYLIGHT
BEGIN:STANDARD
TZOFFSETFROM:-0400
TZOFFSETTO:-0500
TZNAME:EST
DTSTART:20221106T060000
END:STANDARD
END:VTIMEZONE
BEGIN:VEVENT
DTSTART;TZID=America/New_York:20220111T120000
DTEND;TZID=America/New_York:20220111T130000
DTSTAMP:20260421T153323
CREATED:20211109T162125Z
LAST-MODIFIED:20230829T152008Z
UID:10000103-1641902400-1641906000@www.integratedcare.dc.gov
SUMMARY:TeleMAT Part 1: Showcase of Tele-MAT Grantees: Lessons Learned From the Field
DESCRIPTION:Description: The Department of Health Care Finance (DHCF) awarded grants to local organizations to support new telehealth services for residents in Wards 7 and 8 as well as residents of homeless shelters and public housing developments. These projects connect patients to specialists using interactive audio\, video\, or other new technology. DHCF also awarded grants to local organizations to support telemedicine services among the District’s medication-assisted therapy (MAT) network of providers\, including providers authorized (“waivered”) to treat opioid dependency with buprenorphine. During this session\, we will hear from the three Tele-MAT grantees about their programs’ successes\, challenges and lessons learned. An overview of Tele-MAT will be provided in part 2 of this series on January 25\, 2021\, 12:00 pm – 1:00 pm ET. \nView Resource \n The previously recorded webinar and associated materials are available in the resource library. \nFacilitator: Jean Glossa\, MD\, MBA\, FACP (HMA)
URL:https://www.integratedcare.dc.gov/event/telemat-part-1-showcase-of-tele-mat-grantees-lessons-learned-from-the-field/
CATEGORIES:Webinar Event
END:VEVENT
END:VCALENDAR