BEGIN:VCALENDAR
VERSION:2.0
PRODID:-//Integrated Care DC - ECPv6.14.2//NONSGML v1.0//EN
CALSCALE:GREGORIAN
METHOD:PUBLISH
X-ORIGINAL-URL:https://www.integratedcare.dc.gov
X-WR-CALDESC:Events for Integrated Care DC
REFRESH-INTERVAL;VALUE=DURATION:PT1H
X-Robots-Tag:noindex
X-PUBLISHED-TTL:PT1H
BEGIN:VTIMEZONE
TZID:America/New_York
BEGIN:DAYLIGHT
TZOFFSETFROM:-0500
TZOFFSETTO:-0400
TZNAME:EDT
DTSTART:20220313T070000
END:DAYLIGHT
BEGIN:STANDARD
TZOFFSETFROM:-0400
TZOFFSETTO:-0500
TZNAME:EST
DTSTART:20221106T060000
END:STANDARD
END:VTIMEZONE
BEGIN:VEVENT
DTSTART;TZID=America/New_York:20221103T120000
DTEND;TZID=America/New_York:20221103T130000
DTSTAMP:20260423T043211
CREATED:20220922T122256Z
LAST-MODIFIED:20231018T163740Z
UID:10000142-1667476800-1667480400@www.integratedcare.dc.gov
SUMMARY:Understanding Value-Based Care & Value-Based Purchasing
DESCRIPTION:View Resource \n The previously recorded webinar and associated materials are available in the resource library. \nDescription: During this webinar\, participants will be able to identify the foundations of value-based care and the Health Care Payment Learning & Action Network (HCPLAN or LAN) value-based payment (VBP) framework. The presentation will also include the Department of Health Care Finance’s VBP strategy. \nSpeakers: Caitlin Thomas-Henkel\, MSW (HMA) & DaShawn Groves\, DrPH\, MPH (DHCF) \n \n  \n  \n  \nLearning Objectives: \n\nUnderstand national trends and the District’s goals for transitioning to VBP.\nIdentify the foundational concepts of integrated\, value-based care/performance.\nArticulate the foundational Learning and Action Network (LAN) alternative payment methodology (APM) framework\n\nContent Level: Moderate \nTarget Audience: Clinicians \nCourse Interaction & System Requirements: This live webinar is fully interactive. Attendees may ask and answer questions throughout the presentation and participate in instructor-led discussions. \nCourse Completion & CE Requirements: \nHealth Management Associates\, #1780\, is approved to offer social work continuing education by the Association of Social Work Boards (ASWB) Approved Continuing Education (ACE) program. Organizations\, not individual courses\, are approved as ACE providers.  State and provincial regulatory boards have the final authority to determine whether an individual course may be accepted for continuing education credit. Health Management Associates maintains responsibility for this course.  ACE provider approval period: 09/22/2021 – 09/22/2025.   Social workers completing this course receive 1.0 continuing education credit. \nTo earn CE credit\, social workers must log in at the scheduled time\, attend the entire course and complete an online course evaluation. To verify your attendance\, please be sure to log in from an individual account and link your participant ID to your audio. \nCME Credits:  \nApplication for CME credit has been filed with the American Academy of Family Physicians. This session is approved by AAFP for up to 1.0 AMA Level 1.0 CME credit. \nCertificates of completion will be emailed within 10-12 business days of course completion. \nSystem Requirements:  \n\nOperating Systems: Windows XP or higher\, MacOS 9 or higher\, Android 4.0 or higher\nInternet Browser: Internet Explorer 9.0 or higher\, Google Chrome\, Firefox 10.0 or higher\nBroadband Internet connection: Cable\, high-speed DSL & any other medium that is internet accessible
URL:https://www.integratedcare.dc.gov/event/understanding-value-based-care-value-based-purchasing/
CATEGORIES:Webinar Event
ATTACH;FMTTYPE=image/jpeg:https://www.integratedcare.dc.gov/wp-content/uploads/2022/09/understanding-value-based-care-value-based-purchasing.jpeg
END:VEVENT
END:VCALENDAR