BEGIN:VCALENDAR
VERSION:2.0
PRODID:-//Integrated Care DC - ECPv6.14.2//NONSGML v1.0//EN
CALSCALE:GREGORIAN
METHOD:PUBLISH
X-ORIGINAL-URL:https://www.integratedcare.dc.gov
X-WR-CALDESC:Events for Integrated Care DC
REFRESH-INTERVAL;VALUE=DURATION:PT1H
X-Robots-Tag:noindex
X-PUBLISHED-TTL:PT1H
BEGIN:VTIMEZONE
TZID:America/New_York
BEGIN:DAYLIGHT
TZOFFSETFROM:-0500
TZOFFSETTO:-0400
TZNAME:EDT
DTSTART:20230312T070000
END:DAYLIGHT
BEGIN:STANDARD
TZOFFSETFROM:-0400
TZOFFSETTO:-0500
TZNAME:EST
DTSTART:20231105T060000
END:STANDARD
END:VTIMEZONE
BEGIN:VEVENT
DTSTART;TZID=America/New_York:20230811T120000
DTEND;TZID=America/New_York:20230811T130000
DTSTAMP:20260419T174446
CREATED:20230730T011134Z
LAST-MODIFIED:20230816T190007Z
UID:10000184-1691755200-1691758800@www.integratedcare.dc.gov
SUMMARY:Strategies for Negotiating Managed Care Contracts - VBP Legal Training Part 1
DESCRIPTION:View Resource \n The previously recorded webinar and associated materials are available in the resource library. \nDescription: Many providers have little experience negotiating contracts with managed care organizations. This session will provide an orientation to participants on how to identify potential leverage points for negotiation and how to read and evaluate a managed care contract. In addition\, the session will describe a non-adversarial\, collaborative approach to negotiation that can be used in negotiating contracts in many situations. Lastly\, a tool will be introduced to help participants read and understand a managed care contract. \nSpeakers: Adam Falcone\, JD\, &  MPH & Michele Melden\, JD \n \n  \n  \n  \nLearning Objectives: \n\nIdentify potential leverage points for negotiating with Medicaid MCOs.\nApply a tool for reading and reviewing a managed care contract.\nImplement non-adversarial\, collaborative negotiation strategies.\n\nContent Level: Moderate \nTarget Audience: Administrators\, Clinicians\, & Support Staff \nCourse Interaction & System Requirements: This live webinar is fully interactive. Attendees may ask and answer questions throughout the presentation and participate in instructor-led discussions. \nSystem Requirements:  \n\nOperating Systems: Windows XP or higher\, MacOS 9 or higher\, Android 4.0 or higher\nInternet Browser: Internet Explorer 9.0 or higher\, Google Chrome\, Firefox 10.0 or higher\nBroadband Internet connection: Cable\, high-speed DSL & any other medium that is internet accessible
URL:https://www.integratedcare.dc.gov/event/strategies-for-negotiating-managed-care-contracts-vbp-legal-training-part-1/
CATEGORIES:Business Transformation
ATTACH;FMTTYPE=image/jpeg:https://www.integratedcare.dc.gov/wp-content/uploads/2023/07/AdobeStock_283481691.jpeg
END:VEVENT
END:VCALENDAR