BEGIN:VCALENDAR
VERSION:2.0
PRODID:-//Integrated Care DC - ECPv6.14.2//NONSGML v1.0//EN
CALSCALE:GREGORIAN
METHOD:PUBLISH
X-ORIGINAL-URL:https://www.integratedcare.dc.gov
X-WR-CALDESC:Events for Integrated Care DC
REFRESH-INTERVAL;VALUE=DURATION:PT1H
X-Robots-Tag:noindex
X-PUBLISHED-TTL:PT1H
BEGIN:VTIMEZONE
TZID:America/New_York
BEGIN:DAYLIGHT
TZOFFSETFROM:-0500
TZOFFSETTO:-0400
TZNAME:EDT
DTSTART:20230312T070000
END:DAYLIGHT
BEGIN:STANDARD
TZOFFSETFROM:-0400
TZOFFSETTO:-0500
TZNAME:EST
DTSTART:20231105T060000
END:STANDARD
END:VTIMEZONE
BEGIN:VEVENT
DTSTART;TZID=America/New_York:20230831T120000
DTEND;TZID=America/New_York:20230831T130000
DTSTAMP:20260419T174448
CREATED:20230729T183123Z
LAST-MODIFIED:20230901T182802Z
UID:10000174-1693483200-1693486800@www.integratedcare.dc.gov
SUMMARY:Data-Driven Insights to Advance Behavioral Health Quality - VBP Foundations Part 2
DESCRIPTION:View Resource \n The previously recorded webinar and associated materials are available in the resource library. \nDescription: Advances in digital technologies and data analytics have created unparalleled opportunities to assess health data accelerating the ability of science to understand and contribute to improved health behavior and health outcomes. Additionally\, behavioral health in the United States is being challenged to address persistent health inequities while improving the quality and value of the care delivered. As regulators\, payors\, and policies push behavioral health toward data-driven performance\, the pressure for behavioral health providers to measure and monitor outcomes increases. This training will introduce providers to the key facets of using data to drive performance including metric selection\, diagnosing performance issues and acting on data\, driving innovation\, and making data analytics a central part of the behavioral health quality strategy. \nSpeakers: Rachel Bembas\, PhD \n \n  \n  \n  \nLearning Objectives: \n\nGain a deeper understanding of how data can be used to enhance behavioral health treatment and outcomes.\nUnderstand the ways currently available data can help address social determinants of health (SDOH) and quality measures.\nLearn data-driven innovations in behavioral health such as Measurement-Based Care (MBC) and predictive analytics.\nIdentify 2-3 key metrics meaningful for organizational monitoring.\nExplore the skills and strategies needed to make analytics part of a data-driven behavioral health quality improvement .\n\nContent Level: Moderate \nTarget Audience: Administrators\, Clinicians\, & Support Staff \nCourse Interaction & System Requirements: This live webinar is fully interactive. Attendees may ask and answer questions throughout the presentation and participate in instructor-led discussions. \nSystem Requirements:  \n\nOperating Systems: Windows XP or higher\, MacOS 9 or higher\, Android 4.0 or higher\nInternet Browser: Internet Explorer 9.0 or higher\, Google Chrome\, Firefox 10.0 or higher\nBroadband Internet connection: Cable\, high-speed DSL & any other medium that is internet accessible
URL:https://www.integratedcare.dc.gov/event/data-driven-insights-to-advance-behavioral-health-quality-vbp-foundations-part-2/
CATEGORIES:Business Transformation
ATTACH;FMTTYPE=image/jpeg:https://www.integratedcare.dc.gov/wp-content/uploads/2023/07/AdobeStock_214794085.jpeg
END:VEVENT
END:VCALENDAR