BEGIN:VCALENDAR
VERSION:2.0
PRODID:-//Integrated Care DC - ECPv6.14.2//NONSGML v1.0//EN
CALSCALE:GREGORIAN
METHOD:PUBLISH
X-ORIGINAL-URL:https://www.integratedcare.dc.gov
X-WR-CALDESC:Events for Integrated Care DC
REFRESH-INTERVAL;VALUE=DURATION:PT1H
X-Robots-Tag:noindex
X-PUBLISHED-TTL:PT1H
BEGIN:VTIMEZONE
TZID:America/New_York
BEGIN:DAYLIGHT
TZOFFSETFROM:-0500
TZOFFSETTO:-0400
TZNAME:EDT
DTSTART:20230312T070000
END:DAYLIGHT
BEGIN:STANDARD
TZOFFSETFROM:-0400
TZOFFSETTO:-0500
TZNAME:EST
DTSTART:20231105T060000
END:STANDARD
END:VTIMEZONE
BEGIN:VEVENT
DTSTART;TZID=America/New_York:20230918T120000
DTEND;TZID=America/New_York:20230918T130000
DTSTAMP:20260420T211420
CREATED:20230729T192409Z
LAST-MODIFIED:20230927T221446Z
UID:10000173-1695038400-1695042000@www.integratedcare.dc.gov
SUMMARY:VBP 101 (Teaching to the Tools) - VBP Foundations Part 5
DESCRIPTION:View Resource \n The previously recorded webinar and associated materials are available in the resource library. \nDescription: The transition to Value-Based Payment (VBP) represents a multifaceted process\, encompassing significant system-level adjustments in healthcare delivery and reimbursement. Effectively implementing these changes requires a methodical and developmental approach. To facilitate this transition\, a comprehensive toolkit has been designed\, empowering healthcare providers to evaluate their existing readiness and access resources essential for enhancing their capabilities to operate within a value-based payment framework. In this webinar\, we will introduce providers to this invaluable toolkit and guide them on how to navigate it seamlessly. \nSpeakers: Suzanne Daub\, LCSW \n \n  \n  \n  \nLearning Objectives: \n\nAccess the VBP tool kit and gain familiarity with the contents.\n\nContent Level: Foundational \nTarget Audience: Administrators\, Clinicians\, & Support Staff \nCourse Interaction & System Requirements: This live webinar is fully interactive. Attendees may ask and answer questions throughout the presentation and participate in instructor-led discussions. \nSystem Requirements:  \n\nOperating Systems: Windows XP or higher\, MacOS 9 or higher\, Android 4.0 or higher\nInternet Browser: Internet Explorer 9.0 or higher\, Google Chrome\, Firefox 10.0 or higher\nBroadband Internet connection: Cable\, high-speed DSL & any other medium that is internet accessible
URL:https://www.integratedcare.dc.gov/event/vbp-101-teaching-to-the-tools-vbp-foundations-part-5/
CATEGORIES:Business Transformation
ATTACH;FMTTYPE=image/jpeg:https://www.integratedcare.dc.gov/wp-content/uploads/2023/07/AdobeStock_214794085.jpeg
END:VEVENT
END:VCALENDAR