BEGIN:VCALENDAR
VERSION:2.0
PRODID:-//Integrated Care DC - ECPv6.14.2//NONSGML v1.0//EN
CALSCALE:GREGORIAN
METHOD:PUBLISH
X-ORIGINAL-URL:https://www.integratedcare.dc.gov
X-WR-CALDESC:Events for Integrated Care DC
REFRESH-INTERVAL;VALUE=DURATION:PT1H
X-Robots-Tag:noindex
X-PUBLISHED-TTL:PT1H
BEGIN:VTIMEZONE
TZID:America/New_York
BEGIN:DAYLIGHT
TZOFFSETFROM:-0500
TZOFFSETTO:-0400
TZNAME:EDT
DTSTART:20240310T070000
END:DAYLIGHT
BEGIN:STANDARD
TZOFFSETFROM:-0400
TZOFFSETTO:-0500
TZNAME:EST
DTSTART:20241103T060000
END:STANDARD
END:VTIMEZONE
BEGIN:VEVENT
DTSTART;TZID=America/New_York:20240605T120000
DTEND;TZID=America/New_York:20240605T130000
DTSTAMP:20260421T015418
CREATED:20240125T220635Z
LAST-MODIFIED:20240510T005701Z
UID:10000348-1717588800-1717592400@www.integratedcare.dc.gov
SUMMARY:DC Provider Directory Use Cases for Behavioral Health and Long-Term Care/Care Management
DESCRIPTION:Register \nDescription: Interested in using the Provider Directory but don’t know how to? Join CRISP DC in partnership with careMESH as we discuss how the Provider Directory can be implemented into a behavioral health\, long-term care\, or a care management workflow. \nSpeakers: Priya Byati\, Program Coordinator at CRISP DC\, Christal Forte\, Project Intern at CRISP DC\, & Victor Chatain\, Client Account Management Senior Director at careMESH \nLearning Objectives: \n\nLearn how to use the DC Provider Directory in a behavioral health workflow.\nLearn how to use the DC Directory in a long-term care facility workflow.\nLearn how to use the DC Directory in a care management workflow.\nDiscuss best practices to implementing the Provider Directory in an individual’s workflow.\n\nContent Level: Moderate \nTarget Audience: Administrators\, Clinicians\, & Support Staff \nCourse Interaction & System Requirements: This live webinar is fully interactive. Attendees may ask and answer questions throughout the presentation and participate in instructor-led discussions. \nSystem Requirements:  \n\nOperating Systems: Windows XP or higher\, MacOS 9 or higher\, Android 4.0 or higher\nInternet Browser: Internet Explorer 9.0 or higher\, Google Chrome\, Firefox 10.0 or higher\nBroadband Internet connection: Cable\, high-speed DSL & any other medium that is internet accessible
URL:https://www.integratedcare.dc.gov/event/dc-provider-directory-use-cases-for-behavioral-health-and-long-term-care-care-management/
CATEGORIES:CRISP Event
ATTACH;FMTTYPE=image/jpeg:https://www.integratedcare.dc.gov/wp-content/uploads/2023/05/crisp-dc-logo.jpg
END:VEVENT
END:VCALENDAR