BEGIN:VCALENDAR
VERSION:2.0
PRODID:-//Integrated Care DC - ECPv6.14.2//NONSGML v1.0//EN
CALSCALE:GREGORIAN
METHOD:PUBLISH
X-WR-CALNAME:Integrated Care DC
X-ORIGINAL-URL:https://www.integratedcare.dc.gov
X-WR-CALDESC:Events for Integrated Care DC
REFRESH-INTERVAL;VALUE=DURATION:PT1H
X-Robots-Tag:noindex
X-PUBLISHED-TTL:PT1H
BEGIN:VTIMEZONE
TZID:America/New_York
BEGIN:DAYLIGHT
TZOFFSETFROM:-0500
TZOFFSETTO:-0400
TZNAME:EDT
DTSTART:20230312T070000
END:DAYLIGHT
BEGIN:STANDARD
TZOFFSETFROM:-0400
TZOFFSETTO:-0500
TZNAME:EST
DTSTART:20231105T060000
END:STANDARD
END:VTIMEZONE
BEGIN:VEVENT
DTSTART;TZID=America/New_York:20230503T120000
DTEND;TZID=America/New_York:20230503T130000
DTSTAMP:20260423T180649
CREATED:20230322T175250Z
LAST-MODIFIED:20230817T220207Z
UID:10000157-1683115200-1683118800@www.integratedcare.dc.gov
SUMMARY:LGBTQ+ Cultural Competency Training - Part 1
DESCRIPTION:View Resource \n The previously recorded webinar and associated materials are available in the resource library. \nDescription: Lesbian\, gay\, bisexual\, transgender\, and questioning/queer (LGBTQ+) individuals are frequently underserved and experience significant disparities in health outcomes and accessing preventive and ongoing healthcare. Sexual and gender minorities (SGM) often experience discrimination and bias in healthcare settings and may delay or avoid medical and preventive care. \nDeveloping safe\, culturally competent healthcare environments and practices for LGBTQ+ patients is critical and closely related to individuals’ willingness to openly share their sexual orientation and/or gender identity and expression (SOGIE). Capturing SOGIE data is critical as it allows providers to have a more comprehensive picture of key factors that influence care. \nThis session will start with a brief discussion of SOGIE terminology and a compilation of what is known about medical and behavioral health needs and disparities among the LGBTQ+ community. We will highlight the critical need for creating environments that improve patients’ psychological safety and increase their willingness to share SOGIE characteristics. We will share examples of how this data could be utilized to improve care and patient satisfaction\, including capturing a patient’s preferred name and pronouns\, and ways to engage in respectful conversations that could reveal key aspects of their medical history that could otherwise go unnoticed. \nPart 2 of the two-part series will be on June 6\, 12:00-1:00 pm ET – Register Here. \nThis session aligns with the DC Board of Social Work requirements for continuing education. \nSpeakers: Nora L. Carreras\, MPA and Dr. Kevin Waldorf-Cruz\, LICSW\, LCSW-C \n  \n  \n  \n  \nLearning Objectives: \n\nProvide a clear understanding of the terminology and differentiators related to SOGIE.\nExplain how to use cultural information and terminology to establish clinical relationships and create welcoming and inclusive environments for patients and their loved ones.\nProvide information on the medical/behavioral health needs and health disparities among the LGBTQ+ community\, and research showing bias and discrimination in healthcare systems.\nShare best practices for collecting/using SOGIE and health history data to improve primary\, preventive healthcare\, and patient experience.\nProvide concrete\, actionable steps to address underlying cultural and implicit biases\, and provide inclusive and nondiscriminatory care for patients who identify as LGBTQ.\n\nContent Level: Moderate \nTarget Audience: Administrators\, Clinicians\, & Support Staff \nCourse Interaction & System Requirements: This live webinar is fully interactive. Attendees may ask and answer questions throughout the presentation and participate in instructor-led discussions. \nCourse Completion & CE Requirements: \nHealth Management Associates\, #1780\, is approved to offer social work continuing education by the Association of Social Work Boards (ASWB) Approved Continuing Education (ACE) program. Organizations\, not individual courses\, are approved as ACE providers.  State and provincial regulatory boards have the final authority to determine whether an individual course may be accepted for continuing education credit. Health Management Associates maintains responsibility for this course.  ACE provider approval period: 09/22/2021 – 09/22/2025.   Social workers completing this course receive 1.0 continuing education credit. \nTo earn CE credit\, social workers must log in at the scheduled time\, attend the entire course and complete an online course evaluation. To verify your attendance\, please be sure to log in from an individual account and link your participant ID to your audio. \nCME Credits:  \nThe AAFP has reviewed the Integrated Care DC webinar series and deemed it acceptable for AAFP credit. Physicians should claim only the credit commensurate with the extent of their participation in the activity. This session is approved for 1.0 Online Only\, Live AAFP Prescribed credits. \nCertificates of completion will be emailed within 10-12 business days of course completion. \nSystem Requirements:  \n\nOperating Systems: Windows XP or higher\, MacOS 9 or higher\, Android 4.0 or higher\nInternet Browser: Internet Explorer 9.0 or higher\, Google Chrome\, Firefox 10.0 or higher\nBroadband Internet connection: Cable\, high-speed DSL & any other medium that is internet accessible
URL:https://www.integratedcare.dc.gov/event/lgbtq-cultural-competency-training-part-1/
END:VEVENT
BEGIN:VEVENT
DTSTART;TZID=America/New_York:20230509T083000
DTEND;TZID=America/New_York:20230509T153000
DTSTAMP:20260423T180649
CREATED:20230331T140532Z
LAST-MODIFIED:20230817T220119Z
UID:10000158-1683621000-1683646200@www.integratedcare.dc.gov
SUMMARY:Integrated Care DC Managed Care Readiness Workshop
DESCRIPTION:View Resource \n The previously recorded webinar and associated materials are available in the resource library. \nOn-site registration is not permitted. Please click the registration link to sign-up. Due to high demand and space limitations\, we are accepting names for the waitlist. \nDescription: This workshop is hosted by the Department of Health Care Finance\, DBH Training Institute\, and Integrated Care DC. It is intended for behavioral health providers and other organizations seeking to prepare for the upcoming carve-in of behavioral health to the District’s Medicaid Managed Care Program. To succeed in managed care\, new organizational competencies are needed\, including an understanding of managed care principles\, how to communicate effectively with managed care partners\, and how to effectively demonstrate the value of care through quality measurement and population health. This workshop will help leadership\, clinical and operational staff\, and other stakeholders increase knowledge and prepare for behavioral health integration. \nLearning Objectives: \nAt the end of this training\, participants will be able to: \n\nDemonstrate the value of the clinical services provided at their organization and the impact on client outcomes to managed care organizations.\nRepeat the impact of the foundational elements of managed care on behavioral health client services.\nDescribe the opportunities provided by managed care for providers to initiate and expand collaborative team-based care to improve client outcomes.\nDefine effective clinical documentation that demonstrates elements necessary to meet medical necessity and level of care standards of Medicaid-managed care organizations\n\nContent Level: Foundational \nTarget Audience: This workshop is for behavioral health providers and other organizations seeking to prepare for the upcoming carve-in of behavioral health to the District’s Medicaid Managed Care Program. \nContinuing Education approval by the DBH Training Institute is pending. CME credits for this activity are pending approval. Workshop content is developed by Health Management Associates\, Inc.
URL:https://www.integratedcare.dc.gov/event/integrated-care-dc-managed-care-readiness-workshop/
LOCATION:One Judiciary Square\, 441 4th Street NW (Old Council Chambers - Lobby)\, Washington\, DC\, 20001\, United States
CATEGORIES:Provider Information Session
END:VEVENT
BEGIN:VEVENT
DTSTART;TZID=America/New_York:20230510T080000
DTEND;TZID=America/New_York:20230510T090000
DTSTAMP:20260423T180649
CREATED:20230509T143355Z
LAST-MODIFIED:20230509T144816Z
UID:10000166-1683705600-1683709200@www.integratedcare.dc.gov
SUMMARY:CRISP DC – Advance Care Planning Tool Webinar
DESCRIPTION:Register \nDescription: In partnership with the Department of Health Care Finance and DC Health\, CRISP DC is excited to share that DC providers can now request access to utilize a new application\, MyDirectives for Clinicians\, for all your advance care planning needs. Create\, upload\, view\, and provide patient access to advance care plans all within the CRISP DC Portal. This webinar will educate providers about the uses of MyDirectives for Clinicians\, how to view the documents in CRISP\, and how leveraging this application can be used to improve care coordination throughout the District. \nFor more information on CRISP Advanced Care Tools\, visit https://crispdc.org/acp/. \nSpeakers: Corey Main\, CRISP DC \n \n  \n  \n  \nLearning Objectives: \n\nProvide a background on the DC Advance Care Planning Initiative\nDescribe the functionalities of the advance care planning tool\, MyDirectives for Clinicians\, in the CRISP DC Portal.\nDemonstrate how to create\, upload\, and view advance care plans\, and designate healthcare agents in the application.\nDemonstrate the MyDirectives.com patient portal.\nReview the onboarding process.\n\nContent Level: Moderate \nTarget Audience: Clinicians \nCourse Interaction & System Requirements: This live webinar is fully interactive. Attendees may ask and answer questions throughout the presentation and participate in instructor-led discussions. \nSystem Requirements:  \n\nOperating Systems: Windows XP or higher\, MacOS 9 or higher\, Android 4.0 or higher\nInternet Browser: Internet Explorer 9.0 or higher\, Google Chrome\, Firefox 10.0 or higher\nBroadband Internet connection: Cable\, high-speed DSL & any other medium that is internet accessible
URL:https://www.integratedcare.dc.gov/event/crisp-dc-advance-care-planning-tool-webinar/
CATEGORIES:CRISP Event,Webinar Event
END:VEVENT
BEGIN:VEVENT
DTSTART;TZID=America/New_York:20230510T120000
DTEND;TZID=America/New_York:20230510T130000
DTSTAMP:20260423T180649
CREATED:20230509T143959Z
LAST-MODIFIED:20230509T144614Z
UID:10000167-1683720000-1683723600@www.integratedcare.dc.gov
SUMMARY:CRISP DC – Advance Care Planning Tool Webinar
DESCRIPTION:Register \nDescription: In partnership with the Department of Health Care Finance and DC Health\, CRISP DC is excited to share that DC providers can now request access to utilize a new application\, MyDirectives for Clinicians\, for all your advance care planning needs. Create\, upload\, view\, and provide patient access to advance care plans all within the CRISP DC Portal. This webinar will educate providers about the uses of MyDirectives for Clinicians\, how to view the documents in CRISP\, and how leveraging this application can be used to improve care coordination throughout the District. \nFor more information on CRISP Advanced Care Tools\, visit https://crispdc.org/acp/. \nSpeakers: Corey Main\, CRISP DC \n \n  \n  \n  \nLearning Objectives: \n\nProvide a background on the DC Advance Care Planning Initiative\nDescribe the functionalities of the advance care planning tool\, MyDirectives for Clinicians\, in the CRISP DC Portal.\nDemonstrate how to create\, upload\, and view advance care plans\, and designate healthcare agents in the application.\nDemonstrate the MyDirectives.com patient portal.\nReview the onboarding process.\n\nContent Level: Moderate \nTarget Audience: Clinicians \nCourse Interaction & System Requirements: This live webinar is fully interactive. Attendees may ask and answer questions throughout the presentation and participate in instructor-led discussions. \nSystem Requirements:  \n\nOperating Systems: Windows XP or higher\, MacOS 9 or higher\, Android 4.0 or higher\nInternet Browser: Internet Explorer 9.0 or higher\, Google Chrome\, Firefox 10.0 or higher\nBroadband Internet connection: Cable\, high-speed DSL & any other medium that is internet accessible
URL:https://www.integratedcare.dc.gov/event/crisp-dc-advance-care-planning-tool-webinar-2/
CATEGORIES:CRISP Event,Webinar Event
END:VEVENT
BEGIN:VEVENT
DTSTART;TZID=America/New_York:20230510T170000
DTEND;TZID=America/New_York:20230510T180000
DTSTAMP:20260423T180649
CREATED:20230509T144021Z
LAST-MODIFIED:20230509T144625Z
UID:10000168-1683738000-1683741600@www.integratedcare.dc.gov
SUMMARY:CRISP DC – Advance Care Planning Tool Webinar
DESCRIPTION:Register \nDescription: In partnership with the Department of Health Care Finance and DC Health\, CRISP DC is excited to share that DC providers can now request access to utilize a new application\, MyDirectives for Clinicians\, for all your advance care planning needs. Create\, upload\, view\, and provide patient access to advance care plans all within the CRISP DC Portal. This webinar will educate providers about the uses of MyDirectives for Clinicians\, how to view the documents in CRISP\, and how leveraging this application can be used to improve care coordination throughout the District. \nFor more information on CRISP Advanced Care Tools\, visit https://crispdc.org/acp/. \nSpeakers: Corey Main\, CRISP DC \n \n  \n  \n  \nLearning Objectives: \n\nProvide a background on the DC Advance Care Planning Initiative\nDescribe the functionalities of the advance care planning tool\, MyDirectives for Clinicians\, in the CRISP DC Portal.\nDemonstrate how to create\, upload\, and view advance care plans\, and designate healthcare agents in the application.\nDemonstrate the MyDirectives.com patient portal.\nReview the onboarding process.\n\nContent Level: Moderate \nTarget Audience: Clinicians \nCourse Interaction & System Requirements: This live webinar is fully interactive. Attendees may ask and answer questions throughout the presentation and participate in instructor-led discussions. \nSystem Requirements:  \n\nOperating Systems: Windows XP or higher\, MacOS 9 or higher\, Android 4.0 or higher\nInternet Browser: Internet Explorer 9.0 or higher\, Google Chrome\, Firefox 10.0 or higher\nBroadband Internet connection: Cable\, high-speed DSL & any other medium that is internet accessible
URL:https://www.integratedcare.dc.gov/event/crisp-dc-advance-care-planning-tool-webinar-3/
CATEGORIES:CRISP Event,Webinar Event
END:VEVENT
BEGIN:VEVENT
DTSTART;TZID=America/New_York:20230512T080000
DTEND;TZID=America/New_York:20230512T090000
DTSTAMP:20260423T180649
CREATED:20230509T144258Z
LAST-MODIFIED:20230509T151258Z
UID:10000170-1683878400-1683882000@www.integratedcare.dc.gov
SUMMARY:CRISP DC – Advance Care Planning Tool Webinar
DESCRIPTION:Register \nDescription: In partnership with the Department of Health Care Finance and DC Health\, CRISP DC is excited to share that DC providers can now request access to utilize a new application\, MyDirectives for Clinicians\, for all your advance care planning needs. Create\, upload\, view\, and provide patient access to advance care plans all within the CRISP DC Portal. This webinar will educate providers about the uses of MyDirectives for Clinicians\, how to view the documents in CRISP\, and how leveraging this application can be used to improve care coordination throughout the District. \nFor more information on CRISP Advanced Care Tools\, visit https://crispdc.org/acp/. \nSpeakers: Corey Main\, CRISP DC \n \n  \n  \n  \nLearning Objectives: \n\nProvide a background on the DC Advance Care Planning Initiative\nDescribe the functionalities of the advance care planning tool\, MyDirectives for Clinicians\, in the CRISP DC Portal.\nDemonstrate how to create\, upload\, and view advance care plans\, and designate healthcare agents in the application.\nDemonstrate the MyDirectives.com patient portal.\nReview the onboarding process.\n\nContent Level: Moderate \nTarget Audience: Clinicians \nCourse Interaction & System Requirements: This live webinar is fully interactive. Attendees may ask and answer questions throughout the presentation and participate in instructor-led discussions. \nSystem Requirements:  \n\nOperating Systems: Windows XP or higher\, MacOS 9 or higher\, Android 4.0 or higher\nInternet Browser: Internet Explorer 9.0 or higher\, Google Chrome\, Firefox 10.0 or higher\nBroadband Internet connection: Cable\, high-speed DSL & any other medium that is internet accessible
URL:https://www.integratedcare.dc.gov/event/crisp-dc-advance-care-planning-tool-webinar-5/
CATEGORIES:CRISP Event,Webinar Event
ATTACH;FMTTYPE=image/jpeg:https://www.integratedcare.dc.gov/wp-content/uploads/2023/05/crisp-dc-logo.jpg
END:VEVENT
BEGIN:VEVENT
DTSTART;TZID=America/New_York:20230512T120000
DTEND;TZID=America/New_York:20230512T130000
DTSTAMP:20260423T180649
CREATED:20230509T144246Z
LAST-MODIFIED:20230512T134511Z
UID:10000169-1683892800-1683896400@www.integratedcare.dc.gov
SUMMARY:CRISP DC – Advance Care Planning Tool Webinar
DESCRIPTION:Register \nDescription: In partnership with the Department of Health Care Finance and DC Health\, CRISP DC is excited to share that DC providers can now request access to utilize a new application\, MyDirectives for Clinicians\, for all your advance care planning needs. Create\, upload\, view\, and provide patient access to advance care plans all within the CRISP DC Portal. This webinar will educate providers about the uses of MyDirectives for Clinicians\, how to view the documents in CRISP\, and how leveraging this application can be used to improve care coordination throughout the District. \nFor more information on CRISP Advanced Care Tools\, visit https://crispdc.org/acp/. \nSpeakers: Corey Main\, CRISP DC \n \n  \n  \n  \nLearning Objectives: \n\nProvide a background on the DC Advance Care Planning Initiative\nDescribe the functionalities of the advance care planning tool\, MyDirectives for Clinicians\, in the CRISP DC Portal.\nDemonstrate how to create\, upload\, and view advance care plans\, and designate healthcare agents in the application.\nDemonstrate the MyDirectives.com patient portal.\nReview the onboarding process.\n\nContent Level: Moderate \nTarget Audience: Clinicians \nCourse Interaction & System Requirements: This live webinar is fully interactive. Attendees may ask and answer questions throughout the presentation and participate in instructor-led discussions. \nSystem Requirements:  \n\nOperating Systems: Windows XP or higher\, MacOS 9 or higher\, Android 4.0 or higher\nInternet Browser: Internet Explorer 9.0 or higher\, Google Chrome\, Firefox 10.0 or higher\nBroadband Internet connection: Cable\, high-speed DSL & any other medium that is internet accessible
URL:https://www.integratedcare.dc.gov/event/crisp-dc-advance-care-planning-tool-webinar-4/
CATEGORIES:CRISP Event,Webinar Event
ATTACH;FMTTYPE=image/jpeg:https://www.integratedcare.dc.gov/wp-content/uploads/2023/05/crisp-dc-logo.jpg
END:VEVENT
BEGIN:VEVENT
DTSTART;TZID=America/New_York:20230516T120000
DTEND;TZID=America/New_York:20230516T130000
DTSTAMP:20260423T180650
CREATED:20230201T223707Z
LAST-MODIFIED:20230817T215939Z
UID:10000151-1684238400-1684242000@www.integratedcare.dc.gov
SUMMARY:New Diagnosis of a Chronic Medical Condition (PCBH Series Part 11)
DESCRIPTION:View Resource \n The previously recorded webinar and associated materials are available in the resource library. \nDescription: The diagnosis of a long-term health condition can be frightening and overwhelming for many people. Behavioral health professionals working in integrated care settings have the unique opportunity to intervene early to assist individuals with adjusting and adapting to the new demands for behavior change that accompany a new diagnosis. \nSpeakers: Suzanne Daub\, LCSW & Marsha Johnson\, MSW\, LCSW \n  \n  \n  \n  \nLearning Objectives: \n\nIdentify common emotional reactions to a new diagnosis of a long-term health condition.\nDescribe the 5-A approach to assessing and addressing health conditions in primary care.\nRecognize common health behavior interventions made by behavioral health consultants.\n\nContent Level: Foundational \nTarget Audience: Clinicians \nCourse Interaction & System Requirements: This live webinar is fully interactive. Attendees may ask and answer questions throughout the presentation and participate in instructor-led discussions. \nCourse Completion & CE Requirements: \nHealth Management Associates\, #1780\, is approved to offer social work continuing education by the Association of Social Work Boards (ASWB) Approved Continuing Education (ACE) program. Organizations\, not individual courses\, are approved as ACE providers.  State and provincial regulatory boards have the final authority to determine whether an individual course may be accepted for continuing education credit. Health Management Associates maintains responsibility for this course.  ACE provider approval period: 09/22/2021 – 09/22/2025.   Social workers completing this course receive 1.0 continuing education credit. \nTo earn CE credit\, social workers must log in at the scheduled time\, attend the entire course and complete an online course evaluation. To verify your attendance\, please be sure to log in from an individual account and link your participant ID to your audio. \nCME Credits:  \nThe AAFP has reviewed the Integrated Care DC webinar series and deemed it acceptable for AAFP credit. Physicians should claim only the credit commensurate with the extent of their participation in the activity. This session is approved for 1.0 Online Only\, Live AAFP Prescribed credits. \nCertificates of completion will be emailed within 10-12 business days of course completion. \nSystem Requirements:  \n\nOperating Systems: Windows XP or higher\, MacOS 9 or higher\, Android 4.0 or higher\nInternet Browser: Internet Explorer 9.0 or higher\, Google Chrome\, Firefox 10.0 or higher\nBroadband Internet connection: Cable\, high-speed DSL & any other medium that is internet accessible
URL:https://www.integratedcare.dc.gov/event/new-diagnosis-of-a-chronic-medical-condition-pcbh-series-part-11/
CATEGORIES:Webinar Event
END:VEVENT
BEGIN:VEVENT
DTSTART;TZID=America/New_York:20230518T120000
DTEND;TZID=America/New_York:20230518T130000
DTSTAMP:20260423T180650
CREATED:20230417T124849Z
LAST-MODIFIED:20230509T144842Z
UID:10000161-1684411200-1684414800@www.integratedcare.dc.gov
SUMMARY:CRISP DC – Consent Tool
DESCRIPTION:Register \nDescription: CRISP DC is excited to share that patients may now consent to share their substance abuse disorder (SUD) data via the CRISP DC consent tool. This webinar will educate clinicians about the uses of the consent tool and how it can be used to improve care coordination throughout the District. \nFor more information on the consent tool\, visit https://crispdc.org/consent. \nSpeakers: Abby Lutz\, CRISP DC \n \n  \n  \n  \nLearning Objectives: \n\nDescribe the functionalities of the consent tool in CRISP DC portal.\nDiscuss substance use disorder data flow between providers and CRISP DC HIE.\nDemonstrate how to fill out a consent in CRISP DC portal.\n\nContent Level: Moderate \nTarget Audience: Clinicians \nCourse Interaction & System Requirements: This live webinar is fully interactive. Attendees may ask and answer questions throughout the presentation and participate in instructor-led discussions. \nSystem Requirements:  \n\nOperating Systems: Windows XP or higher\, MacOS 9 or higher\, Android 4.0 or higher\nInternet Browser: Internet Explorer 9.0 or higher\, Google Chrome\, Firefox 10.0 or higher\nBroadband Internet connection: Cable\, high-speed DSL & any other medium that is internet accessible
URL:https://www.integratedcare.dc.gov/event/crisp-dc-consent-tool-2/
CATEGORIES:CRISP Event,Webinar Event
END:VEVENT
END:VCALENDAR