BEGIN:VCALENDAR
VERSION:2.0
PRODID:-//Integrated Care DC - ECPv6.14.2//NONSGML v1.0//EN
CALSCALE:GREGORIAN
METHOD:PUBLISH
X-WR-CALNAME:Integrated Care DC
X-ORIGINAL-URL:https://www.integratedcare.dc.gov
X-WR-CALDESC:Events for Integrated Care DC
REFRESH-INTERVAL;VALUE=DURATION:PT1H
X-Robots-Tag:noindex
X-PUBLISHED-TTL:PT1H
BEGIN:VTIMEZONE
TZID:America/New_York
BEGIN:DAYLIGHT
TZOFFSETFROM:-0500
TZOFFSETTO:-0400
TZNAME:EDT
DTSTART:20230312T070000
END:DAYLIGHT
BEGIN:STANDARD
TZOFFSETFROM:-0400
TZOFFSETTO:-0500
TZNAME:EST
DTSTART:20231105T060000
END:STANDARD
END:VTIMEZONE
BEGIN:VEVENT
DTSTART;TZID=America/New_York:20230221T120000
DTEND;TZID=America/New_York:20230221T130000
DTSTAMP:20260421T200619
CREATED:20230124T132237Z
LAST-MODIFIED:20230817T220744Z
UID:10000149-1676980800-1676984400@www.integratedcare.dc.gov
SUMMARY:Is a 20-Minute Consultation Realistic? (PCBH Series Part 8)
DESCRIPTION:View Resource \n The previously recorded webinar and associated materials are available in the resource library. \nDescription: In making the transition from practicing outpatient behavioral health to primary care behavioral health\, clinicians often wonder how can I do my work in 20 minutes and is it really possible to make a meaningful difference in this amount of time? This training answers this question directly by simulating a 20-minute behavioral health consultation and discussing as a group each stage of the encounter\, best practices\, and the strengths and challenges that arise. \nSpeakers: Suzanne Daub\, LCSW & Neftali Serrano\, PsyD (Collaborative Family Healthcare Association) \n  \n  \n  \n  \nLearning Objectives: \n\nDescribe an effective PCP to BHC warm handoff.\nIdentify strategies to focus on a BH consult.\nRecognize key clinical transitions to functional analysis\, problem formation/problem-solving\, and planning with the patient.\n\nContent Level: Moderate \nTarget Audience: Clinicians \nCourse Interaction & System Requirements: This live webinar is fully interactive. Attendees may ask and answer questions throughout the presentation and participate in instructor-led discussions. \nCourse Completion & CE Requirements: \nHealth Management Associates\, #1780\, is approved to offer social work continuing education by the Association of Social Work Boards (ASWB) Approved Continuing Education (ACE) program. Organizations\, not individual courses\, are approved as ACE providers.  State and provincial regulatory boards have the final authority to determine whether an individual course may be accepted for continuing education credit. Health Management Associates maintains responsibility for this course.  ACE provider approval period: 09/22/2021 – 09/22/2025.   Social workers completing this course receive 1.0 continuing education credit. \nTo earn CE credit\, social workers must log in at the scheduled time\, attend the entire course and complete an online course evaluation. To verify your attendance\, please be sure to log in from an individual account and link your participant ID to your audio. \nCME Credits:  \nThe AAFP has reviewed the Integrated Care DC webinar series and deemed it acceptable for AAFP credit. Physicians should claim only the credit commensurate with the extent of their participation in the activity. This session is approved for 1.0 Online Only\, Live AAFP Prescribed credits. \nCertificates of completion will be emailed within 10-12 business days of course completion. \nSystem Requirements:  \n\nOperating Systems: Windows XP or higher\, MacOS 9 or higher\, Android 4.0 or higher\nInternet Browser: Internet Explorer 9.0 or higher\, Google Chrome\, Firefox 10.0 or higher\nBroadband Internet connection: Cable\, high-speed DSL & any other medium that is internet accessible
URL:https://www.integratedcare.dc.gov/event/is-a-20-minute-consultation-realistic-pcbh-series-part-8/
CATEGORIES:Webinar Event
END:VEVENT
END:VCALENDAR