BEGIN:VCALENDAR
VERSION:2.0
PRODID:-//Integrated Care DC - ECPv6.14.2//NONSGML v1.0//EN
CALSCALE:GREGORIAN
METHOD:PUBLISH
X-WR-CALNAME:Integrated Care DC
X-ORIGINAL-URL:https://www.integratedcare.dc.gov
X-WR-CALDESC:Events for Integrated Care DC
REFRESH-INTERVAL;VALUE=DURATION:PT1H
X-Robots-Tag:noindex
X-PUBLISHED-TTL:PT1H
BEGIN:VTIMEZONE
TZID:America/New_York
BEGIN:DAYLIGHT
TZOFFSETFROM:-0500
TZOFFSETTO:-0400
TZNAME:EDT
DTSTART:20230312T070000
END:DAYLIGHT
BEGIN:STANDARD
TZOFFSETFROM:-0400
TZOFFSETTO:-0500
TZNAME:EST
DTSTART:20231105T060000
END:STANDARD
END:VTIMEZONE
BEGIN:VEVENT
DTSTART;TZID=America/New_York:20230912T150000
DTEND;TZID=America/New_York:20230912T160000
DTSTAMP:20260420T122419
CREATED:20230729T154513Z
LAST-MODIFIED:20230913T233540Z
UID:10000176-1694530800-1694534400@www.integratedcare.dc.gov
SUMMARY:Clinical and Programmatic Implications of VBP - VBP Foundations Part 4
DESCRIPTION:View Resource \n The previously recorded webinar and associated materials are available in the resource library. \nDescription: Value-based payment reimbursement links payment to the quality and effectiveness of the care we deliver. This webinar considers the clinical strategies used to achieve valuable outcomes and demonstrates that the care delivered is effective\, including care management\, integrated/whole-person care\, and measurement-based care. \nSpeakers: Suzanne Daub\, LCSW & Art Jones\, MD \n \n  \n  \n  \nLearning Objectives: \n\nDescribe the clinical components required to achieve valuable outcomes.\nIdentify how the integration of services drives outcomes.\nExplain what measurement-based care is and how it connects to value-based reimbursement.\n\nContent Level: Moderate \nTarget Audience: Administrators\, Clinicians\, & Support Staff \nCourse Interaction & System Requirements: This live webinar is fully interactive. Attendees may ask and answer questions throughout the presentation and participate in instructor-led discussions. \nSystem Requirements:  \n\nOperating Systems: Windows XP or higher\, MacOS 9 or higher\, Android 4.0 or higher\nInternet Browser: Internet Explorer 9.0 or higher\, Google Chrome\, Firefox 10.0 or higher\nBroadband Internet connection: Cable\, high-speed DSL & any other medium that is internet accessible
URL:https://www.integratedcare.dc.gov/event/clinical-and-programmatic-implications-of-vbp-vbp-foundations-part-4/
CATEGORIES:Business Transformation
ATTACH;FMTTYPE=image/jpeg:https://www.integratedcare.dc.gov/wp-content/uploads/2023/07/AdobeStock_214794085.jpeg
END:VEVENT
BEGIN:VEVENT
DTSTART;TZID=America/New_York:20230913T120000
DTEND;TZID=America/New_York:20230913T130000
DTSTAMP:20260420T122419
CREATED:20230729T153813Z
LAST-MODIFIED:20230913T233156Z
UID:10000183-1694606400-1694610000@www.integratedcare.dc.gov
SUMMARY:Value-Based Payment: Is it Disrupting Healthcare for the Better? Role of a Clinically Integrated Network - FQHC Part 3
DESCRIPTION:View Resource \n The previously recorded webinar and associated materials are available in the resource library. \nDescription: Medicare\, state Medicaid agencies\, managed care organizations\, and commercial insurers are increasingly adopting value-based payment (VBP) models. Community Health Centers (CHCs) are uniquely positioned to deliver on that high expectation by offering enhanced access to high-quality primary care\, coordinating the care delivered by specialists\, hospitals\, and other institutions\, and care managing the most complex individuals. This requires CHCs to transform their care delivery to efficiently deliver optimal patient- and population-level health outcomes and successfully manage costs. Many CHCs are forming clinically integrated Networks to create contracting leverage\, make joint investments in data analytics\, and collaborate to develop complex care management and clinical models of care. This webinar will explore that national trend and how it may apply to District of Columbia CHCs. \nSpeakers: Art Jones\, MD\, &  Hunter Schouweiler\, MS-HSM  \n \n  \n  \n  \nLearning Objectives: \n\nList which types of value-based payment models fall into the four Health Care Payment Learning & Action Network (HCPLAN\, or LAN) categories.\nExplain the pros and cons of collaborating with other CHCs to form a clinically integrated network.\nIdentify how different types of alternative payment models can be used synergistically to improve population outcomes.\nUnderstand the new competencies that must be mastered to succeed in a total cost of care contract.\n\nContent Level: Moderate \nTarget Audience: Administrators\, Clinicians\, & Support Staff \nCourse Interaction & System Requirements: This live webinar is fully interactive. Attendees may ask and answer questions throughout the presentation and participate in instructor-led discussions. \nSystem Requirements:  \n\nOperating Systems: Windows XP or higher\, MacOS 9 or higher\, Android 4.0 or higher\nInternet Browser: Internet Explorer 9.0 or higher\, Google Chrome\, Firefox 10.0 or higher\nBroadband Internet connection: Cable\, high-speed DSL & any other medium that is internet accessible
URL:https://www.integratedcare.dc.gov/event/value-based-payment-is-it-disrupting-healthcare-for-the-better-role-of-a-clinically-integrated-network-fqhc-part-3/
CATEGORIES:Business Transformation
ATTACH;FMTTYPE=image/jpeg:https://www.integratedcare.dc.gov/wp-content/uploads/2023/07/AdobeStock_492246830.jpeg
END:VEVENT
BEGIN:VEVENT
DTSTART;TZID=America/New_York:20230914T120000
DTEND;TZID=America/New_York:20230914T130000
DTSTAMP:20260420T122419
CREATED:20230729T145146Z
LAST-MODIFIED:20230731T174304Z
UID:10000164-1694692800-1694696400@www.integratedcare.dc.gov
SUMMARY:CRISP DC – Consent Tool
DESCRIPTION:Register \nDescription: CRISP DC is excited to share that patients may now consent to share their substance abuse disorder (SUD) data via the CRISP DC consent tool. This webinar will educate clinicians about the uses of the consent tool and how it can be used to improve care coordination throughout the District. \nFor more information on the consent tool\, visit https://crispdc.org/consent. \nSpeakers: Abby Lutz\, CRISP DC \n \n  \n  \n  \nLearning Objectives: \n\nDescribe the functionalities of the consent tool in CRISP DC portal.\nDiscuss substance use disorder data flow between providers and CRISP DC HIE.\nDemonstrate how to fill out a consent in CRISP DC portal.\n\nContent Level: Moderate \nTarget Audience: Clinicians \nCourse Interaction & System Requirements: This live webinar is fully interactive. Attendees may ask and answer questions throughout the presentation and participate in instructor-led discussions. \nSystem Requirements:  \n\nOperating Systems: Windows XP or higher\, MacOS 9 or higher\, Android 4.0 or higher\nInternet Browser: Internet Explorer 9.0 or higher\, Google Chrome\, Firefox 10.0 or higher\nBroadband Internet connection: Cable\, high-speed DSL & any other medium that is internet accessible
URL:https://www.integratedcare.dc.gov/event/crisp-dc-consent-tool-5/
CATEGORIES:CRISP Event,Webinar Event
END:VEVENT
BEGIN:VEVENT
DTSTART;TZID=America/New_York:20230914T130000
DTEND;TZID=America/New_York:20230914T140000
DTSTAMP:20260420T122419
CREATED:20230729T144252Z
LAST-MODIFIED:20230731T181752Z
UID:10000180-1694696400-1694700000@www.integratedcare.dc.gov
SUMMARY:Managing High Cost High Need Individuals - Behavioral Health VBP Part 4
DESCRIPTION:Register \nDescription: High-need\, high-cost (HNHC) patients often face multiple challenges including high disease burden\, behavioral health comorbidity\, functional limitations\, and social barriers to treatment plan compliance.  They typically make up just 5 percent of the population but account for 50 percent of health care costs.  This webinar will discuss taking a tailored approach to care in order to improve their outcomes. \nSpeakers: Suzanne Daub\, LCSW\, & Art Jones\, MD \n \n  \n  \n  \nLearning Objectives: \n\nRecognize the characteristics and unique challenges faced by high-need\, high-cost patients and will be equipped to identify HNHC patients within their patient populations.\nDescribe patient-centered approaches\, multidisciplinary care coordination\, and leveraging community resources to address the complex needs of HNHC patients.\n\nContent Level: Moderate \nTarget Audience: Administrators\, Clinicians\, & Support Staff \nCourse Interaction & System Requirements: This live webinar is fully interactive. Attendees may ask and answer questions throughout the presentation and participate in instructor-led discussions. \nSystem Requirements:  \n\nOperating Systems: Windows XP or higher\, MacOS 9 or higher\, Android 4.0 or higher\nInternet Browser: Internet Explorer 9.0 or higher\, Google Chrome\, Firefox 10.0 or higher\nBroadband Internet connection: Cable\, high-speed DSL & any other medium that is internet accessible
URL:https://www.integratedcare.dc.gov/event/managing-high-cost-high-need-individuals-behavioral-health-vbp-part-4/
CATEGORIES:Business Transformation
ATTACH;FMTTYPE=image/jpeg:https://www.integratedcare.dc.gov/wp-content/uploads/2022/10/achieving-better-outcomes-through-value-based-care-and-population-health-strategies.jpeg
END:VEVENT
END:VCALENDAR